BEGIN:VCALENDAR
VERSION:2.0
PRODID:-//LEMI-U - ECPv6.15.20//NONSGML v1.0//EN
CALSCALE:GREGORIAN
METHOD:PUBLISH
X-ORIGINAL-URL:https://lemi-u.com
X-WR-CALDESC:Events for LEMI-U
REFRESH-INTERVAL;VALUE=DURATION:PT1H
X-Robots-Tag:noindex
X-PUBLISHED-TTL:PT1H
BEGIN:VTIMEZONE
TZID:America/Denver
BEGIN:DAYLIGHT
TZOFFSETFROM:-0700
TZOFFSETTO:-0600
TZNAME:MDT
DTSTART:20230312T090000
END:DAYLIGHT
BEGIN:STANDARD
TZOFFSETFROM:-0600
TZOFFSETTO:-0700
TZNAME:MST
DTSTART:20231105T080000
END:STANDARD
BEGIN:DAYLIGHT
TZOFFSETFROM:-0700
TZOFFSETTO:-0600
TZNAME:MDT
DTSTART:20240310T090000
END:DAYLIGHT
BEGIN:STANDARD
TZOFFSETFROM:-0600
TZOFFSETTO:-0700
TZNAME:MST
DTSTART:20241103T080000
END:STANDARD
BEGIN:DAYLIGHT
TZOFFSETFROM:-0700
TZOFFSETTO:-0600
TZNAME:MDT
DTSTART:20250309T090000
END:DAYLIGHT
BEGIN:STANDARD
TZOFFSETFROM:-0600
TZOFFSETTO:-0700
TZNAME:MST
DTSTART:20251102T080000
END:STANDARD
END:VTIMEZONE
BEGIN:VEVENT
DTSTART;TZID=America/Denver:20240203T090000
DTEND;TZID=America/Denver:20240203T103000
DTSTAMP:20260421T130526
CREATED:20240124T092354Z
LAST-MODIFIED:20240820T065130Z
UID:3370-1706950800-1706956200@lemi-u.com
SUMMARY:Growing Scholar Skills with Tatiana Fallon
DESCRIPTION:Join Tatiana Fallon\, a master mentor\, in our interactive webinar\, “Growing Scholar Skills\,” aimed at mentors\, educators\, and those invested in teenagers’ academic growth. This is the fifth webinar in our Leadership Education Webinar Series. \nDiscover how to nurture emotional intelligence and executive function in your teenage students\, gain practical insights and best practices\, and participate in an interactive workshop. Tatiana’s expertise will equip you to help your students thrive academically and personally. Don’t miss this opportunity to enhance your mentoring skills and make a lasting impact. \nWould you like to get access to this recording?\nCLICK HERE
URL:https://lemi-u.com/event/growing-scholar-skills-with-tatiana-fallon/
LOCATION:Zoom\, UT\, United States
ATTACH;FMTTYPE=image/png:https://lemi-u.com/wp-content/uploads/2023/04/LEMI-Headshots-2-1.png
END:VEVENT
END:VCALENDAR