BEGIN:VCALENDAR
VERSION:2.0
PRODID:-//LEMI-U - ECPv6.15.20//NONSGML v1.0//EN
CALSCALE:GREGORIAN
METHOD:PUBLISH
X-ORIGINAL-URL:https://lemi-u.com
X-WR-CALDESC:Events for LEMI-U
REFRESH-INTERVAL;VALUE=DURATION:PT1H
X-Robots-Tag:noindex
X-PUBLISHED-TTL:PT1H
BEGIN:VTIMEZONE
TZID:America/Denver
BEGIN:DAYLIGHT
TZOFFSETFROM:-0700
TZOFFSETTO:-0600
TZNAME:MDT
DTSTART:20250309T090000
END:DAYLIGHT
BEGIN:STANDARD
TZOFFSETFROM:-0600
TZOFFSETTO:-0700
TZNAME:MST
DTSTART:20251102T080000
END:STANDARD
BEGIN:DAYLIGHT
TZOFFSETFROM:-0700
TZOFFSETTO:-0600
TZNAME:MDT
DTSTART:20260308T090000
END:DAYLIGHT
BEGIN:STANDARD
TZOFFSETFROM:-0600
TZOFFSETTO:-0700
TZNAME:MST
DTSTART:20261101T080000
END:STANDARD
BEGIN:DAYLIGHT
TZOFFSETFROM:-0700
TZOFFSETTO:-0600
TZNAME:MDT
DTSTART:20270314T090000
END:DAYLIGHT
BEGIN:STANDARD
TZOFFSETFROM:-0600
TZOFFSETTO:-0700
TZNAME:MST
DTSTART:20271107T080000
END:STANDARD
END:VTIMEZONE
BEGIN:VEVENT
DTSTART;TZID=America/Denver:20260305T180000
DTEND;TZID=America/Denver:20260305T193000
DTSTAMP:20260419T075647
CREATED:20260115T030751Z
LAST-MODIFIED:20260220T170200Z
UID:6069-1772733600-1772739000@lemi-u.com
SUMMARY:When Everything Connects: Mentoring Through Project-Based Learning with Heidi Christianson
DESCRIPTION:FREE WEBINAR THURSDAY\, MARCH 5TH\, AT 6 PM MST \n\n\nYour Student Can Pass Tests But Can’t Think \n\n\n\n\nThey’ve memorized the material.They can complete the assignment. \nBut when it’s time to think independently\, solve problems\, or take ownership\, they hesitate. \nSound familiar? \nThis isn’t a student problem.It’s a mentorship gap. \nMost education focuses on what students should learn.But real growth depends on how they are guided as they learn. \n\nIn this webinar\, you’ll discover how mentors use project-based learning to move students beyond compliance and into capability\, confidence\, and leadership. \nBecause projects alone don’t create transformation—intentional mentoring does. \n\nYou’ll Learn:\n\n\nWhy projects fall flat without the right kind of mentor guidance \n\n\nThe shift from managing assignments → mentoring growth \n\n\nHow to use projects to develop thinking\, ownership\, and initiative \n\n\nThe mentor moves that turn frustration into breakthrough \n\n\nHow mentorship naturally integrates academics into meaningful work \n\n\n\n\n\n\nYour students will face challenges we can’t predict. Become the mentor who prepares them to navigate whatever comes. \nREGISTER TODAY!\n\n\n \nHeidi Christianson is co-author of The Learning Zone and our newest book Developing a Mentor’s Heart. She is also Director of Operations of LEMI (Leadership Education Mentoring Institute). She loves helping families understand what Leadership Education really is—and watching it transform how they see their children and themselves. \nCan’t make it to the live event?  Access to the recordings for this year’s webinars\, as well as others\, is available for purchase HERE.
URL:https://lemi-u.com/event/when-everything-connects-from-facts-to-forms-with-heidi-christianson/
LOCATION:Zoom\, UT\, United States
ATTACH;FMTTYPE=image/png:https://lemi-u.com/wp-content/uploads/2025/02/Heidi-Headshot2022.png
ORGANIZER;CN="Heidi Christianson":MAILTO:registerlemi@gmail.com
END:VEVENT
BEGIN:VEVENT
DTSTART;VALUE=DATE:20260306
DTEND;VALUE=DATE:20260308
DTSTAMP:20260419T075647
CREATED:20260114T074407Z
LAST-MODIFIED:20260217T235453Z
UID:6056-1772755200-1772927999@lemi-u.com
SUMMARY:Seeing in Forms: Understanding the Structures That Shape Our Lives - A Workshop with Olivia Votaw
DESCRIPTION:Seeing in Forms: Understanding the Structures That Shape Our Lives\nwith Olivia Votaw Online | Friday 9 am to 5 pm and Saturday 9 am to Noon MST\, March 6–7 | 1.5 Days \nJoin Olivia Votaw for a focused online workshop on Forms —a foundational concept in Leadership Education. Forms are the structures and systems that shape how things work in every area of our lives\, from our families and classrooms to our communities and governments. When we learn to recognize the forms around us\, we gain the ability to understand why we get the results we do — and how to create better ones. \nOver this day and a half\, Olivia will guide participants through what forms are\, why they matter\, and how developing an eye for them can transform the way you mentor\, teach\, and lead. \nThis workshop is designed for parents and mentors but apprentice scholars are also invited to attend. \nThis workshop takes place online on March 6th and 7th. We hope to see you there! \nSign up for this workshop HERE.
URL:https://lemi-u.com/event/forms-workshop-with-olivia-votaw/
LOCATION:Zoom\, UT\, United States
ATTACH;FMTTYPE=image/png:https://lemi-u.com/wp-content/uploads/2025/11/LEMI-Headshots-1.png
ORGANIZER;CN="Heidi Christianson":MAILTO:registerlemi@gmail.com
END:VEVENT
BEGIN:VEVENT
DTSTART;TZID=America/Denver:20260313T100000
DTEND;TZID=America/Denver:20260313T120000
DTSTAMP:20260419T075647
CREATED:20260204T132346Z
LAST-MODIFIED:20260204T132346Z
UID:6173-1773396000-1773403200@lemi-u.com
SUMMARY:Governing Board Workshop - March
DESCRIPTION:MARCH 13th\, 10 am to noon MST \nBuilding shared culture\, making principled decisions together \nYour governing board does the essential work of creating structures that free families to focus on learning. Our monthly workshops (6 times per year) help boards: \n\n\nNavigate forms and frameworks \n\n\nPractice parliamentary procedure \n\n\nBuild practical systems while maintaining vision \n\n\nCreate the kind of emotional support and shared culture that makes communities last \n\n\nREGISTER TODAY!  https://www.lemihomeschool.com/governing-board
URL:https://lemi-u.com/event/governing-board-workshop-march/
LOCATION:Zoom\, UT\, United States
ATTACH;FMTTYPE=image/png:https://lemi-u.com/wp-content/uploads/2026/02/2.png
ORGANIZER;CN="Heidi Christianson":MAILTO:registerlemi@gmail.com
END:VEVENT
BEGIN:VEVENT
DTSTART;TZID=America/Denver:20260321T090000
DTEND;TZID=America/Denver:20260321T103000
DTSTAMP:20260419T075647
CREATED:20260306T174647Z
LAST-MODIFIED:20260306T174705Z
UID:6226-1774083600-1774089000@lemi-u.com
SUMMARY:Principles That Change Homes with Nancy Jex
DESCRIPTION:Saturday\, March 21st\, 9 am MDT \nEvery parent who is paying attention wonders at some point: Am I doing this right? \nNot out of self-doubt\, but out of deep love. You care about your children and you want to be sure that what you’re doing is actually working — that the effort and sacrifice of educating them at home is shaping them into the people they were meant to become. \nFamily Foundations doesn’t answer that question with a checklist. It offers something better: a framework for seeing — your children\, yourself\, and the work you’re already doing — with greater clarity and confidence. \nIn this one-hour webinar\, Nancy Jex will walk you through three of the core principles at the heart of Family Foundations\, including why every child is a genius\, how understanding developmental phases can transform your relationship with your children\, and why your own growth as a parent matters more than any curriculum you will ever choose. \nYou won’t just hear about these principles — you’ll experience a taste of the Family Foundations learning environment firsthand. \nWhether you’re curious about bringing Family Foundations to your community or simply looking for fresh inspiration in the work of educating your family\, this webinar is for you. \nCome ready to think\, to share\, and to be reminded that what you are doing matters. \nRegister today. Your families are worth it.
URL:https://lemi-u.com/event/principles-that-change-homes-a-preview-of-what-family-foundations-teaches-with-nancy-jex/
LOCATION:Zoom\, UT\, United States
ATTACH;FMTTYPE=image/png:https://lemi-u.com/wp-content/uploads/2026/03/NancyJex-Headshot.png
ORGANIZER;CN="Heidi Christianson":MAILTO:registerlemi@gmail.com
END:VEVENT
END:VCALENDAR