BEGIN:VCALENDAR
VERSION:2.0
PRODID:-//LEMI-U - ECPv6.15.20//NONSGML v1.0//EN
CALSCALE:GREGORIAN
METHOD:PUBLISH
X-ORIGINAL-URL:https://lemi-u.com
X-WR-CALDESC:Events for LEMI-U
REFRESH-INTERVAL;VALUE=DURATION:PT1H
X-Robots-Tag:noindex
X-PUBLISHED-TTL:PT1H
BEGIN:VTIMEZONE
TZID:UTC
BEGIN:STANDARD
TZOFFSETFROM:+0000
TZOFFSETTO:+0000
TZNAME:UTC
DTSTART:20240101T000000
END:STANDARD
END:VTIMEZONE
BEGIN:VEVENT
DTSTART;TZID=UTC:20250301T090000
DTEND;TZID=UTC:20250301T103000
DTSTAMP:20260419T075647
CREATED:20240911T091826Z
LAST-MODIFIED:20250119T032232Z
UID:4207-1740819600-1740825000@lemi-u.com
SUMMARY:This is YOUR Scholar Phase by Olivia Votaw
DESCRIPTION:All webinars begin at 9 am Mountain \nEmbark on a transformative journey with Olivia Votaw in her empowering webinar\, “This is YOUR Scholar Phase.” Discover how to reclaim your own educational path while guiding your children through theirs. Olivia will inspire you to embrace personal growth\, igniting a passion for learning that will revolutionize your homeschooling experience. Learn practical strategies to balance your scholarly pursuits with family responsibilities\, and explore how your intellectual development directly enhances your teaching abilities. This webinar is a wake-up call for parents who’ve put their own education on hold – it’s time to lead by example! Uncover the joy of lifelong learning\, and watch as your enthusiasm sparks curiosity in your children. Don’t miss this chance to redefine your role as both educator and scholar\, creating a rich\, vibrant learning environment for the whole family. Remember\, it’s never too late to start your own Scholar Phase! \nREGISTER TODAY!\n \nCan’t make it to the free live webinars?  You can purchase the recordings HERE. \nWith the purchase of the recordings you will also automatically receive the zoom login information for all upcoming webinars.  No registration required!
URL:https://lemi-u.com/event/this-is-your-scholar-phase-by-olivia-votaw/
LOCATION:Zoom\, UT\, United States
ATTACH;FMTTYPE=image/jpeg:https://lemi-u.com/wp-content/uploads/2024/09/Olivia-Headshot.jpg
ORGANIZER;CN="Heidi Christianson":MAILTO:registerlemi@gmail.com
END:VEVENT
BEGIN:VEVENT
DTSTART;TZID=UTC:20250308T090000
DTEND;TZID=UTC:20250308T103000
DTSTAMP:20260419T075647
CREATED:20240522T051633Z
LAST-MODIFIED:20250204T081558Z
UID:3856-1741424400-1741429800@lemi-u.com
SUMMARY:SLT Webinar - Navigating Conflict with Dina Wells
DESCRIPTION:All webinars are a 9 am Mountain (Utah) time \nConflict is inevitable in any organization\, but it doesn’t have to derail your mission. Join us for the webinar\, “Navigating Conflict.” Discover how to transform challenging situations into opportunities for growth and stronger relationships. Learn practical strategies to address disagreements constructively\, mediate disputes effectively\, and foster a culture of open communication. You’ll gain valuable insights into conflict resolution techniques\, emotional intelligence in leadership\, and maintaining unity amidst diverse opinions. Whether you’re dealing with parent concerns\, volunteer disputes\, or board disagreements\, this webinar will equip you with the tools to navigate these challenges with confidence and grace. Don’t miss this opportunity to enhance your leadership skills and create a more resilient\, harmonious community. Join us and learn to steer your organization smoothly through any storm! \nREGISTER TODAY!\n \nCan’t make it to the free live webinars?  You can purchase the recordings HERE. \nWith the purchase of the recordings you will also automatically receive the zoom login information for all upcoming webinars.  No registration required!
URL:https://lemi-u.com/event/slt-webinar-navigating-conflict/
LOCATION:Zoom\, UT\, United States
ATTACH;FMTTYPE=image/png:https://lemi-u.com/wp-content/uploads/2024/01/SLT.png
ORGANIZER;CN="Heidi Christianson":MAILTO:registerlemi@gmail.com
END:VEVENT
BEGIN:VEVENT
DTSTART;TZID=UTC:20250322T090000
DTEND;TZID=UTC:20250322T103000
DTSTAMP:20260419T075647
CREATED:20241109T214812Z
LAST-MODIFIED:20250204T080922Z
UID:4384-1742634000-1742639400@lemi-u.com
SUMMARY:Making the Most of Mentor Meetings with Leslie Leonard
DESCRIPTION:All Webinars are at 9 am Mountain \nThis webinar with Leslie Leonard will equip you with effective strategies to make your mentor meetings more impactful\, fostering stronger relationships and enhanced learning experiences. Discover how to structure meetings that inspire\, guide\, and support students in their educational journeys. Learn practical tips on setting clear objectives\, giving constructive feedback\, and promoting a growth mindset. Whether you’re new to mentoring or looking to refine your approach\, this webinar is your key to more productive and meaningful mentorships. \nRegister Today!
URL:https://lemi-u.com/event/making-the-most-of-mentor-meetings-with-olivia-votaw/
LOCATION:Zoom\, UT\, United States
ATTACH;FMTTYPE=image/png:https://lemi-u.com/wp-content/uploads/2024/11/Leslie-Headshot.png
ORGANIZER;CN="Heidi Christianson":MAILTO:registerlemi@gmail.com
END:VEVENT
BEGIN:VEVENT
DTSTART;VALUE=DATE:20250327
DTEND;VALUE=DATE:20250330
DTSTAMP:20260419T075647
CREATED:20241117T050932Z
LAST-MODIFIED:20241117T050932Z
UID:4400-1743033600-1743292799@lemi-u.com
SUMMARY:The Great Homeschool Convention - St. Charles Missouri March 27-29
DESCRIPTION:Come join us at the Great Homeschool Convention in St. Charles\, Missouri March 27-29\, 2025! \nREGISTER TODAY! \n 
URL:https://lemi-u.com/event/the-great-homeschool-convention-st-charles-missouri-march-27-29/
LOCATION:St. Charles Convention Center\, 1 Convention Center Plaza\, St. Charles\, MO\, 63303\, United States
ATTACH;FMTTYPE=image/png:https://lemi-u.com/wp-content/uploads/2024/11/1.png
ORGANIZER;CN="Heidi Christianson":MAILTO:registerlemi@gmail.com
END:VEVENT
END:VCALENDAR