BEGIN:VCALENDAR
VERSION:2.0
PRODID:-//LEMI-U - ECPv6.15.20//NONSGML v1.0//EN
CALSCALE:GREGORIAN
METHOD:PUBLISH
X-WR-CALNAME:LEMI-U
X-ORIGINAL-URL:https://lemi-u.com
X-WR-CALDESC:Events for LEMI-U
REFRESH-INTERVAL;VALUE=DURATION:PT1H
X-Robots-Tag:noindex
X-PUBLISHED-TTL:PT1H
BEGIN:VTIMEZONE
TZID:America/Chicago
BEGIN:DAYLIGHT
TZOFFSETFROM:-0600
TZOFFSETTO:-0500
TZNAME:CDT
DTSTART:20220313T080000
END:DAYLIGHT
BEGIN:STANDARD
TZOFFSETFROM:-0500
TZOFFSETTO:-0600
TZNAME:CST
DTSTART:20221106T070000
END:STANDARD
BEGIN:DAYLIGHT
TZOFFSETFROM:-0600
TZOFFSETTO:-0500
TZNAME:CDT
DTSTART:20230312T080000
END:DAYLIGHT
BEGIN:STANDARD
TZOFFSETFROM:-0500
TZOFFSETTO:-0600
TZNAME:CST
DTSTART:20231105T070000
END:STANDARD
BEGIN:DAYLIGHT
TZOFFSETFROM:-0600
TZOFFSETTO:-0500
TZNAME:CDT
DTSTART:20240310T080000
END:DAYLIGHT
BEGIN:STANDARD
TZOFFSETFROM:-0500
TZOFFSETTO:-0600
TZNAME:CST
DTSTART:20241103T070000
END:STANDARD
END:VTIMEZONE
BEGIN:VTIMEZONE
TZID:UTC
BEGIN:STANDARD
TZOFFSETFROM:+0000
TZOFFSETTO:+0000
TZNAME:UTC
DTSTART:20220101T000000
END:STANDARD
END:VTIMEZONE
BEGIN:VEVENT
DTSTART;VALUE=DATE:20230607
DTEND;VALUE=DATE:20230610
DTSTAMP:20260420T011853
CREATED:20230407T111638Z
LAST-MODIFIED:20230407T111638Z
UID:1489-1686096000-1686355199@lemi-u.com
SUMMARY:In-Person Training\, St. George\, UT
DESCRIPTION:At LEMI\, we offer a variety of Scholar project options to choose from\, including history-based projects like Key of Liberty and Sword of Freedom/Hero Project\, science-based projects like Pyramid and Georgics\, and literature/acting-based classes such as Shakespeare Conquest and Classical Acting. Our Quest projects are the perfect way to prepare your older scholar for the world with a deep dive into leadership principles. And if your scholar wants to do their own thing but needs a structured approach\, the Edison Project may be just what you’re looking for. We also have several adult projects like Family Foundations and School Leadership Training\, so parents can continue their own personal and professional growth while supporting their child’s education. \nSign up early and take advantage of Early Bird pricing\, but hurry\, spots are limited! Join us at the 3-Day Mentor Training and become part of a supportive community that will help you navigate the challenges of homeschooling and make the most of this incredible journey.
URL:https://lemi-u.com/event/in-person-training-st-george-ut-2/
LOCATION:St. George Academy\, Washington\, UT\, 380 E 3090 S\, St. George\, UT\, 84780\, United States
ATTACH;FMTTYPE=image/png:https://lemi-u.com/wp-content/uploads/2023/04/LEMI-Logos-1.png
ORGANIZER;CN="Heidi Christianson":MAILTO:registerlemi@gmail.com
END:VEVENT
BEGIN:VEVENT
DTSTART;VALUE=DATE:20230605
DTEND;VALUE=DATE:20230608
DTSTAMP:20260420T011853
CREATED:20230407T111454Z
LAST-MODIFIED:20230407T111454Z
UID:1485-1685923200-1686182399@lemi-u.com
SUMMARY:In-Person Training\, St. George\, UT
DESCRIPTION:At LEMI\, we offer a variety of Scholar project options to choose from\, including history-based projects like Key of Liberty and Sword of Freedom/Hero Project\, science-based projects like Pyramid and Georgics\, and literature/acting-based classes such as Shakespeare Conquest and Classical Acting. Our Quest projects are the perfect way to prepare your older scholar for the world with a deep dive into leadership principles. And if your scholar wants to do their own thing but needs a structured approach\, the Edison Project may be just what you’re looking for. We also have several adult projects like Family Foundations and School Leadership Training\, so parents can continue their own personal and professional growth while supporting their child’s education. \nSign up early and take advantage of Early Bird pricing (ends April 15th)\, but hurry\, spots are limited! Join us at the 3-Day Mentor Training and become part of a supportive community that will help you navigate the challenges of homeschooling and make the most of this incredible journey.
URL:https://lemi-u.com/event/in-person-training-st-george-ut/
LOCATION:St. George Academy\, Washington\, UT\, 380 E 3090 S\, St. George\, UT\, 84780\, United States
ATTACH;FMTTYPE=image/png:https://lemi-u.com/wp-content/uploads/2023/04/LEMI-Logos.png
ORGANIZER;CN="Heidi Christianson":MAILTO:registerlemi@gmail.com
END:VEVENT
BEGIN:VEVENT
DTSTART;TZID=UTC:20230520T090000
DTEND;TZID=UTC:20230520T100000
DTSTAMP:20260420T011853
CREATED:20230425T004151Z
LAST-MODIFIED:20240820T063649Z
UID:1710-1684573200-1684576800@lemi-u.com
SUMMARY:Cyndi Hampton - High School Transcripts: LEMI Equivalencies and the Next Best Steps
DESCRIPTION:All webinars are held in Mountain Time. \nAre you ready to take the next step toward a successful high school education? Then join us on May 20th at 9 am Mountain for an exciting hour-long webinar with Cyndi Hampton\, where she’ll provide an overview of how you can include LEMI projects on your high school transcripts. \nThis webinar is not only perfect for parents\, educators\, and students who are in high school or getting ready for it\, but also for anyone considering LEMI projects and wanting to know how they can benefit their high school student. \nCyndi will also discuss the requirements for high school graduation and how LEMI meets those requirements\, making this webinar a must-attend event for anyone with kids taking LEMI classes. \nAnd that’s not all – there will be plenty of time for Q&A at the end of the webinar\, so come prepared with your burning questions! \nDon’t miss this informative and engaging webinar with Cyndi Hampton on “High School Transcripts: LEMI Equivalencies and the Next Best Steps.” Register now to secure your spot and take the first step towards a successful high school career! \n  \nBIOGRAPHY \nCyndi Hampton homeschooled her 7 delightful children for 25 years (1994 – 2020). Each of them has launched successfully into adult life pursuing a variety of paths\, but they all have a love for learning and improving themselves.  During that time she also founded a commonwealth school (Polar Star) that celebrated it’s 20 year reunion in 2022.  She mentored Shakespeare\, Classical Acting\, Heroes\, and Quest 1\,2\,3.  Not all at the same time …. but almost.  She served as Chairman(10 years)\, primary mentor and torchbearer.   \nCurrently she is working for Leadership Academy of Utah as their Funded Elective and Independent Studies Coordinator. (Where she is known as Cynthia\, her professional alter ego) She helps families using LAU to also get credit for their outside classes such as LEMI projects.  \nShe also serves in her community as a coordinating council member for Just Serve\, a representative of Lifting Hands International and in the Wasatch Front Service Mission. She has 7 grandchildren\, who are even more delightful than her children and enjoys reading to and playing with them.  She has a BS(1988) from the University of Utah in Mathematics and English Literature.  She had no idea what she was really going to do with her education\, but clearly\, she figured it out. She also enjoys reading\, crocheting\, gardening\, and researching a myriad of topics such as\, but not exclusive to\, curly hair care\, ancient civilizations\, Christianity\, and WFPB eating.   \nREGISTRATION IS REQUIRED TO ATTEND \nWould you like to get access to this recording?\nCLICK HERE
URL:https://lemi-u.com/event/cyndi-hampton-high-school-transcripts-lemi-equivalencies-and-the-next-best-steps/
LOCATION:Zoom\, UT\, United States
ATTACH;FMTTYPE=image/jpeg:https://lemi-u.com/wp-content/uploads/2023/04/IMG-3603-e1682374234909.jpg
ORGANIZER;CN="Heidi Christianson":MAILTO:registerlemi@gmail.com
END:VEVENT
BEGIN:VEVENT
DTSTART;TZID=UTC:20230506T090000
DTEND;TZID=UTC:20230506T100000
DTSTAMP:20260420T011853
CREATED:20230426T044354Z
LAST-MODIFIED:20240820T063602Z
UID:1718-1683363600-1683367200@lemi-u.com
SUMMARY:Kent & Amy Bowler - 3 Secrets to Homeschooling Extraordinary Teenagers
DESCRIPTION:Discover the 3 surprising secrets that will unlock your child’s potential and happiness.\nJoin us for a free webinar Saturday\, May 6th\, at 9 am Mountain\, where we share the secrets we’ve discovered from research and while parenting our 7 children for over 3 decades and mentoring hundreds of youth.  There are things we do that block our ability to help them and negatively affect their progress.  And there are things we can do as parents to increase the influence we have in our children’s lives without manipulation or coercion. \nBIOGRAPHY \nAs dedicated homeschooling gurus and proven parenting experts\, our joy is found in showing the people called by God to parent the children in your home (you!) how to bring your home into harmony without pushing your increasingly independent children further away so that you can have influence in their lives. Kent and Amy have seven children\, eight grandchildren\, have been parenting for 30+ years\, and are still in the thick of it with teen #6 and an 8-year-old at home. They love spending time with their family – laughing and playing games around the kitchen table\, singing at the piano\, and hiking and biking. \nKent and Amy will be leaving LEMI after this year to focus on their Revolutionary Families.  We will miss them terribly but are so excited for them and all of the families they will continue to impact. You can check it out Revolutionary Families HERE. \nWould you like to get access to this recording?\nCLICK HERE
URL:https://lemi-u.com/event/kent-amy-bowler-3-secrets-to-homeschooling-extraordinary-teenagers/
LOCATION:Zoom\, UT\, United States
ATTACH;FMTTYPE=image/png:https://lemi-u.com/wp-content/uploads/2023/04/Headshots.png
END:VEVENT
BEGIN:VEVENT
DTSTART;TZID=America/Chicago:20230422T090000
DTEND;TZID=America/Chicago:20230422T100000
DTSTAMP:20260420T011853
CREATED:20230407T110000Z
LAST-MODIFIED:20230423T012321Z
UID:1478-1682154000-1682157600@lemi-u.com
SUMMARY:Georgics Revolution with William DeMille
DESCRIPTION:Join us for a free webinar exploring the Georgic tradition and its link to the principles of Liber\, Freedom\, Public Virtue\, and Providence. We will delve into current scientific research regarding food production and discuss traditional wisdom from the ages that need to be preserved to grow nutritious food. Additionally\, we will define current food issues and discuss what leaders can do about them. This webinar also offers an exciting opportunity for people interested in agriculture to be trained as a farmer to meet the needs of the future. Don’t miss out on this informative and engaging webinar! \nBe sure to check out William’s new book – Worry-Free Eating. \nLook for more webinars coming soon!
URL:https://lemi-u.com/event/georgics-revolution-with-william-demille/
LOCATION:Zoom\, UT\, United States
ATTACH;FMTTYPE=image/jpeg:https://lemi-u.com/wp-content/uploads/2023/04/William-DeMille-e1680842359439.jpg
ORGANIZER;CN="Heidi Christianson":MAILTO:registerlemi@gmail.com
END:VEVENT
END:VCALENDAR