BEGIN:VCALENDAR
VERSION:2.0
PRODID:-//LEMI-U - ECPv6.15.20//NONSGML v1.0//EN
CALSCALE:GREGORIAN
METHOD:PUBLISH
X-WR-CALNAME:LEMI-U
X-ORIGINAL-URL:https://lemi-u.com
X-WR-CALDESC:Events for LEMI-U
REFRESH-INTERVAL;VALUE=DURATION:PT1H
X-Robots-Tag:noindex
X-PUBLISHED-TTL:PT1H
BEGIN:VTIMEZONE
TZID:America/Denver
BEGIN:DAYLIGHT
TZOFFSETFROM:-0700
TZOFFSETTO:-0600
TZNAME:MDT
DTSTART:20250309T090000
END:DAYLIGHT
BEGIN:STANDARD
TZOFFSETFROM:-0600
TZOFFSETTO:-0700
TZNAME:MST
DTSTART:20251102T080000
END:STANDARD
BEGIN:DAYLIGHT
TZOFFSETFROM:-0700
TZOFFSETTO:-0600
TZNAME:MDT
DTSTART:20260308T090000
END:DAYLIGHT
BEGIN:STANDARD
TZOFFSETFROM:-0600
TZOFFSETTO:-0700
TZNAME:MST
DTSTART:20261101T080000
END:STANDARD
BEGIN:DAYLIGHT
TZOFFSETFROM:-0700
TZOFFSETTO:-0600
TZNAME:MDT
DTSTART:20270314T090000
END:DAYLIGHT
BEGIN:STANDARD
TZOFFSETFROM:-0600
TZOFFSETTO:-0700
TZNAME:MST
DTSTART:20271107T080000
END:STANDARD
END:VTIMEZONE
BEGIN:VEVENT
DTSTART;VALUE=DATE:20260625
DTEND;VALUE=DATE:20260628
DTSTAMP:20260419T164348
CREATED:20260204T134040Z
LAST-MODIFIED:20260204T134040Z
UID:6189-1782345600-1782604799@lemi-u.com
SUMMARY:ONLINE TRAINING
DESCRIPTION:Shakespeare Conquest\, Key of Liberty\, Georgics\, Sword/Hero\, Quest 3 \nFor more information and to register for training\, go to: https://www.lemihomeschool.com/training-overview
URL:https://lemi-u.com/event/online-training-3/
LOCATION:Zoom\, UT\, United States
ATTACH;FMTTYPE=image/png:https://lemi-u.com/wp-content/uploads/2026/02/LEMI-ZOOM.png
ORGANIZER;CN="Heidi Christianson":MAILTO:registerlemi@gmail.com
END:VEVENT
BEGIN:VEVENT
DTSTART;VALUE=DATE:20260713
DTEND;VALUE=DATE:20260716
DTSTAMP:20260419T164348
CREATED:20260204T134207Z
LAST-MODIFIED:20260204T134207Z
UID:6191-1783900800-1784159999@lemi-u.com
SUMMARY:ONLINE TRAINING
DESCRIPTION:Shakespeare Conquest\, Key of Liberty\, Georgics Project\, QUEST-Principles \nFor more information and to register for training\, go to: https://www.lemihomeschool.com/training-overview
URL:https://lemi-u.com/event/online-training-4/
LOCATION:Zoom\, UT\, United States
ATTACH;FMTTYPE=image/png:https://lemi-u.com/wp-content/uploads/2026/02/LEMI-ZOOM.png
ORGANIZER;CN="Heidi Christianson":MAILTO:registerlemi@gmail.com
END:VEVENT
BEGIN:VEVENT
DTSTART;VALUE=DATE:20260723
DTEND;VALUE=DATE:20260726
DTSTAMP:20260419T164348
CREATED:20260204T134331Z
LAST-MODIFIED:20260204T134331Z
UID:6193-1784764800-1785023999@lemi-u.com
SUMMARY:ONLINE TRAINING
DESCRIPTION:Shakespeare Conquest\, Key of Liberty\, Sword/Hero\, Classical Acting \nFor more information and to register for training\, go to: https://www.lemihomeschool.com/training-overview
URL:https://lemi-u.com/event/online-training-5/
LOCATION:Zoom\, UT\, United States
ATTACH;FMTTYPE=image/png:https://lemi-u.com/wp-content/uploads/2026/02/LEMI-ZOOM.png
ORGANIZER;CN="Heidi Christianson":MAILTO:registerlemi@gmail.com
END:VEVENT
BEGIN:VEVENT
DTSTART;VALUE=DATE:20260730
DTEND;VALUE=DATE:20260802
DTSTAMP:20260419T164348
CREATED:20260204T134446Z
LAST-MODIFIED:20260204T134446Z
UID:6195-1785369600-1785628799@lemi-u.com
SUMMARY:ONLINE TRAINING
DESCRIPTION:Key of Liberty\, Pyramid Project\, Quest 1-2 \nFor more information and to register for training\, go to: https://www.lemihomeschool.com/training-overview
URL:https://lemi-u.com/event/online-training-6/
LOCATION:Zoom\, UT\, United States
ATTACH;FMTTYPE=image/png:https://lemi-u.com/wp-content/uploads/2026/02/LEMI-ZOOM.png
ORGANIZER;CN="Heidi Christianson":MAILTO:registerlemi@gmail.com
END:VEVENT
END:VCALENDAR