BEGIN:VCALENDAR
VERSION:2.0
PRODID:-//LEMI-U - ECPv6.15.20//NONSGML v1.0//EN
CALSCALE:GREGORIAN
METHOD:PUBLISH
X-WR-CALNAME:LEMI-U
X-ORIGINAL-URL:https://lemi-u.com
X-WR-CALDESC:Events for LEMI-U
REFRESH-INTERVAL;VALUE=DURATION:PT1H
X-Robots-Tag:noindex
X-PUBLISHED-TTL:PT1H
BEGIN:VTIMEZONE
TZID:America/Denver
BEGIN:DAYLIGHT
TZOFFSETFROM:-0700
TZOFFSETTO:-0600
TZNAME:MDT
DTSTART:20250309T090000
END:DAYLIGHT
BEGIN:STANDARD
TZOFFSETFROM:-0600
TZOFFSETTO:-0700
TZNAME:MST
DTSTART:20251102T080000
END:STANDARD
BEGIN:DAYLIGHT
TZOFFSETFROM:-0700
TZOFFSETTO:-0600
TZNAME:MDT
DTSTART:20260308T090000
END:DAYLIGHT
BEGIN:STANDARD
TZOFFSETFROM:-0600
TZOFFSETTO:-0700
TZNAME:MST
DTSTART:20261101T080000
END:STANDARD
BEGIN:DAYLIGHT
TZOFFSETFROM:-0700
TZOFFSETTO:-0600
TZNAME:MDT
DTSTART:20270314T090000
END:DAYLIGHT
BEGIN:STANDARD
TZOFFSETFROM:-0600
TZOFFSETTO:-0700
TZNAME:MST
DTSTART:20271107T080000
END:STANDARD
END:VTIMEZONE
BEGIN:VEVENT
DTSTART;TZID=America/Denver:20260418T090000
DTEND;TZID=America/Denver:20260418T103000
DTSTAMP:20260420T015931
CREATED:20260127T075019Z
LAST-MODIFIED:20260127T084946Z
UID:6127-1776502800-1776508200@lemi-u.com
SUMMARY:Commonplace Books REVAMPED with Olivia Votaw
DESCRIPTION:Discover a fresh\, dynamic approach to one of history’s most powerful learning tools! In this webinar\, Olivia Votaw will show how to transform the traditional commonplace book using the popular bullet journal method\, creating a flexible\, personalized system for capturing wisdom\, tracking insights\, and deepening your learning journey. \nThe commonplace book has been a trusted companion to great thinkers\, writers\, and learners for centuries—a place to collect meaningful quotes\, profound ideas\, inspiring passages\, and personal reflections. Now\, by integrating the bullet journal method’s practical indexing\, rapid logging\, and customizable layouts\, you can create a commonplace book that’s not only beautiful and inspiring but also incredibly functional and easy to maintain. \nWhether you’re new to commonplace books or looking to breathe new life into an existing practice\, this webinar will equip you with practical tools and fresh inspiration. Join Olivia Votaw to learn how this revamped approach can become your go-to system for capturing and connecting the ideas that matter most. \nPerfect for educators\, students\, lifelong learners\, and anyone seeking a more intentional way to engage with the books and ideas they encounter. \nREGISTER TODAY!\n \nCan’t make it to the live event?  Access to the recordings for this year’s webinars\, as well as others\, is available for purchase HERE.
URL:https://lemi-u.com/event/commonplace-books-revamped-with-olivia-votaw/
LOCATION:Zoom\, UT\, United States
ATTACH;FMTTYPE=image/jpeg:https://lemi-u.com/wp-content/uploads/2024/09/Olivia-Headshot.jpg
ORGANIZER;CN="Heidi Christianson":MAILTO:registerlemi@gmail.com
END:VEVENT
END:VCALENDAR