BEGIN:VCALENDAR
VERSION:2.0
PRODID:-//LEMI-U - ECPv6.15.20//NONSGML v1.0//EN
CALSCALE:GREGORIAN
METHOD:PUBLISH
X-WR-CALNAME:LEMI-U
X-ORIGINAL-URL:https://lemi-u.com
X-WR-CALDESC:Events for LEMI-U
REFRESH-INTERVAL;VALUE=DURATION:PT1H
X-Robots-Tag:noindex
X-PUBLISHED-TTL:PT1H
BEGIN:VTIMEZONE
TZID:America/Denver
BEGIN:DAYLIGHT
TZOFFSETFROM:-0700
TZOFFSETTO:-0600
TZNAME:MDT
DTSTART:20250309T090000
END:DAYLIGHT
BEGIN:STANDARD
TZOFFSETFROM:-0600
TZOFFSETTO:-0700
TZNAME:MST
DTSTART:20251102T080000
END:STANDARD
BEGIN:DAYLIGHT
TZOFFSETFROM:-0700
TZOFFSETTO:-0600
TZNAME:MDT
DTSTART:20260308T090000
END:DAYLIGHT
BEGIN:STANDARD
TZOFFSETFROM:-0600
TZOFFSETTO:-0700
TZNAME:MST
DTSTART:20261101T080000
END:STANDARD
BEGIN:DAYLIGHT
TZOFFSETFROM:-0700
TZOFFSETTO:-0600
TZNAME:MDT
DTSTART:20270314T090000
END:DAYLIGHT
BEGIN:STANDARD
TZOFFSETFROM:-0600
TZOFFSETTO:-0700
TZNAME:MST
DTSTART:20271107T080000
END:STANDARD
END:VTIMEZONE
BEGIN:VEVENT
DTSTART;TZID=America/Denver:20260221T090000
DTEND;TZID=America/Denver:20260221T103000
DTSTAMP:20260419T095705
CREATED:20260127T074307Z
LAST-MODIFIED:20260127T074307Z
UID:6125-1771664400-1771669800@lemi-u.com
SUMMARY:SLT - Putting Mom’s First: The Key to Strengthening your Community
DESCRIPTION:What if the secret to building a thriving\, resilient school community starts with supporting the mothers at its heart? \nIn this essential webinar\, Katie Richins will share why prioritizing moms—their well-being\, growth\, and leadership—creates a ripple effect that strengthens your entire educational community. When mothers are supported\, empowered\, and given the tools they need to succeed\, families flourish\, students thrive\, and communities become more connected and sustainable. \nWhether you’re a school leader\, board member\, or community builder\, this webinar will shift your perspective on what it takes to create lasting\, meaningful impact. Join us to learn how putting moms first isn’t just good for families—it’s essential for building the kind of community where everyone can thrive. \nREGISTER TODAY!\n \nCan’t make it to the live event?  Access to the recordings for this year’s webinars\, as well as others\, is available for purchase HERE.
URL:https://lemi-u.com/event/slt-putting-moms-first-the-key-to-strengthening-your-community/
LOCATION:Zoom\, UT\, United States
ATTACH;FMTTYPE=image/png:https://lemi-u.com/wp-content/uploads/2024/01/SLT.png
ORGANIZER;CN="Heidi Christianson":MAILTO:registerlemi@gmail.com
END:VEVENT
END:VCALENDAR