BEGIN:VCALENDAR
VERSION:2.0
PRODID:-//LEMI-U - ECPv6.15.20//NONSGML v1.0//EN
CALSCALE:GREGORIAN
METHOD:PUBLISH
X-WR-CALNAME:LEMI-U
X-ORIGINAL-URL:https://lemi-u.com
X-WR-CALDESC:Events for LEMI-U
REFRESH-INTERVAL;VALUE=DURATION:PT1H
X-Robots-Tag:noindex
X-PUBLISHED-TTL:PT1H
BEGIN:VTIMEZONE
TZID:UTC
BEGIN:STANDARD
TZOFFSETFROM:+0000
TZOFFSETTO:+0000
TZNAME:UTC
DTSTART:20250101T000000
END:STANDARD
END:VTIMEZONE
BEGIN:VEVENT
DTSTART;TZID=UTC:20260214T090000
DTEND;TZID=UTC:20260214T103000
DTSTAMP:20260419T061230
CREATED:20260115T025642Z
LAST-MODIFIED:20260115T025642Z
UID:6065-1771059600-1771065000@lemi-u.com
SUMMARY:The Coaching Environment with Joslyn Postma
DESCRIPTION:FREE WEBINAR\, FEB. 14TH\, 9 AM MST \nTransform your homeschool from teacher-student dynamics to a coaching partnership that inspires learning. Join Joslyn Postma on February 14th at 9 am to discover how to create an environment where your students thrive. Learn how to establish trust\, foster independence\, and build the psychological safety that encourages curious\, confident learners. This webinar will give you practical strategies to shift from directing every step to guiding your children as they take ownership of their education—making homeschooling more joyful and effective for everyone. \nREGISTER TODAY!\n \nCan’t make it to the live event?  Access to the recordings for this year’s webinars\, as well as others\, is available for purchase HERE.
URL:https://lemi-u.com/event/the-coaching-environment-with-joslyn-postma/
LOCATION:Zoom\, UT\, United States
ATTACH;FMTTYPE=image/png:https://lemi-u.com/wp-content/uploads/2025/11/LEMI-Headshots.png
ORGANIZER;CN="Heidi Christianson":MAILTO:registerlemi@gmail.com
END:VEVENT
END:VCALENDAR