BEGIN:VCALENDAR
VERSION:2.0
PRODID:-//LEMI-U - ECPv6.15.20//NONSGML v1.0//EN
CALSCALE:GREGORIAN
METHOD:PUBLISH
X-ORIGINAL-URL:https://lemi-u.com
X-WR-CALDESC:Events for LEMI-U
REFRESH-INTERVAL;VALUE=DURATION:PT1H
X-Robots-Tag:noindex
X-PUBLISHED-TTL:PT1H
BEGIN:VTIMEZONE
TZID:America/Denver
BEGIN:DAYLIGHT
TZOFFSETFROM:-0700
TZOFFSETTO:-0600
TZNAME:MDT
DTSTART:20250309T090000
END:DAYLIGHT
BEGIN:STANDARD
TZOFFSETFROM:-0600
TZOFFSETTO:-0700
TZNAME:MST
DTSTART:20251102T080000
END:STANDARD
BEGIN:DAYLIGHT
TZOFFSETFROM:-0700
TZOFFSETTO:-0600
TZNAME:MDT
DTSTART:20260308T090000
END:DAYLIGHT
BEGIN:STANDARD
TZOFFSETFROM:-0600
TZOFFSETTO:-0700
TZNAME:MST
DTSTART:20261101T080000
END:STANDARD
BEGIN:DAYLIGHT
TZOFFSETFROM:-0700
TZOFFSETTO:-0600
TZNAME:MDT
DTSTART:20270314T090000
END:DAYLIGHT
BEGIN:STANDARD
TZOFFSETFROM:-0600
TZOFFSETTO:-0700
TZNAME:MST
DTSTART:20271107T080000
END:STANDARD
END:VTIMEZONE
BEGIN:VEVENT
DTSTART;TZID=America/Denver:20260213T100000
DTEND;TZID=America/Denver:20260213T120000
DTSTAMP:20260419T060509
CREATED:20260204T132210Z
LAST-MODIFIED:20260204T132210Z
UID:6169-1770976800-1770984000@lemi-u.com
SUMMARY:Governing Board Workshop
DESCRIPTION:FEBRUARY 13th\, 10 am to noon MST \nBuilding shared culture\, making principled decisions together \nYour governing board does the essential work of creating structures that free families to focus on learning. Our monthly workshops (6 times per year) help boards: \n\n\nNavigate forms and frameworks \n\n\nPractice parliamentary procedure \n\n\nBuild practical systems while maintaining vision \n\n\nCreate the kind of emotional support and shared culture that makes communities last \n\n\nREGISTER TODAY!  https://www.lemihomeschool.com/governing-board
URL:https://lemi-u.com/event/governing-board-workshop/
LOCATION:Zoom\, UT\, United States
ATTACH;FMTTYPE=image/png:https://lemi-u.com/wp-content/uploads/2026/02/2.png
ORGANIZER;CN="Heidi Christianson":MAILTO:registerlemi@gmail.com
END:VEVENT
END:VCALENDAR