BEGIN:VCALENDAR
VERSION:2.0
PRODID:-//LEMI-U - ECPv6.15.20//NONSGML v1.0//EN
CALSCALE:GREGORIAN
METHOD:PUBLISH
X-WR-CALNAME:LEMI-U
X-ORIGINAL-URL:https://lemi-u.com
X-WR-CALDESC:Events for LEMI-U
REFRESH-INTERVAL;VALUE=DURATION:PT1H
X-Robots-Tag:noindex
X-PUBLISHED-TTL:PT1H
BEGIN:VTIMEZONE
TZID:UTC
BEGIN:STANDARD
TZOFFSETFROM:+0000
TZOFFSETTO:+0000
TZNAME:UTC
DTSTART:20250101T000000
END:STANDARD
END:VTIMEZONE
BEGIN:VEVENT
DTSTART;TZID=UTC:20260207T090000
DTEND;TZID=UTC:20260207T103000
DTSTAMP:20260420T111308
CREATED:20260115T025113Z
LAST-MODIFIED:20260115T025113Z
UID:6063-1770454800-1770460200@lemi-u.com
SUMMARY:From Nagging to Mentoring: 5 Research-Backed Moves to Help Teens Own Their Education with Kami Harris
DESCRIPTION:FREE WEBINAR-SATURDAY\, FEB 7TH\, 9 AM MST \nTired of the daily battles over schoolwork and motivation? Join Kami Harris on February 7th at 9 am MST to discover how to transform your relationship with your teen from taskmaster to trusted mentor. This practical webinar shares five evidence-based strategies that help teenagers develop genuine ownership of their learning—reducing your stress while building their independence\, confidence\, and academic success. Walk away with actionable tools you can implement immediately to support your teen’s educational journey without the constant struggle. \nREGISTER TODAY!\n \nCan’t make it to the live event?  Access to the recordings for this year’s webinars\, as well as others\, is available for purchase HERE.
URL:https://lemi-u.com/event/from-nagging-to-mentoring-5-research-backed-moves-to-help-teens-own-their-education-with-kami-harris/
LOCATION:Zoom\, UT\, United States
ATTACH;FMTTYPE=image/png:https://lemi-u.com/wp-content/uploads/2024/09/Kami-Harris-1.png
ORGANIZER;CN="Heidi Christianson":MAILTO:registerlemi@gmail.com
END:VEVENT
END:VCALENDAR