BEGIN:VCALENDAR
VERSION:2.0
PRODID:-//LEMI-U - ECPv6.15.20//NONSGML v1.0//EN
CALSCALE:GREGORIAN
METHOD:PUBLISH
X-WR-CALNAME:LEMI-U
X-ORIGINAL-URL:https://lemi-u.com
X-WR-CALDESC:Events for LEMI-U
REFRESH-INTERVAL;VALUE=DURATION:PT1H
X-Robots-Tag:noindex
X-PUBLISHED-TTL:PT1H
BEGIN:VTIMEZONE
TZID:America/Denver
BEGIN:DAYLIGHT
TZOFFSETFROM:-0700
TZOFFSETTO:-0600
TZNAME:MDT
DTSTART:20250309T090000
END:DAYLIGHT
BEGIN:STANDARD
TZOFFSETFROM:-0600
TZOFFSETTO:-0700
TZNAME:MST
DTSTART:20251102T080000
END:STANDARD
BEGIN:DAYLIGHT
TZOFFSETFROM:-0700
TZOFFSETTO:-0600
TZNAME:MDT
DTSTART:20260308T090000
END:DAYLIGHT
BEGIN:STANDARD
TZOFFSETFROM:-0600
TZOFFSETTO:-0700
TZNAME:MST
DTSTART:20261101T080000
END:STANDARD
BEGIN:DAYLIGHT
TZOFFSETFROM:-0700
TZOFFSETTO:-0600
TZNAME:MDT
DTSTART:20270314T090000
END:DAYLIGHT
BEGIN:STANDARD
TZOFFSETFROM:-0600
TZOFFSETTO:-0700
TZNAME:MST
DTSTART:20271107T080000
END:STANDARD
END:VTIMEZONE
BEGIN:VEVENT
DTSTART;TZID=America/Denver:20260205T180000
DTEND;TZID=America/Denver:20260205T193000
DTSTAMP:20260420T143336
CREATED:20260115T024423Z
LAST-MODIFIED:20260115T024532Z
UID:6060-1770314400-1770319800@lemi-u.com
SUMMARY:Developing Someone\, Not Creating Something
DESCRIPTION:THURSDAY EVENING\, FEBRUARY 5TH AT 6 PM MST \nWhen Bright Eyes Go Empty \nYou’ve seen it happen. The child who used to ask endless questions now just goes through the motions. The curious learner becomes the disengaged teenager. Their eyes… empty. \nWhat if the problem isn’t your curriculum? What if it’s deeper than that? \nIn this powerful webinar\, discover the fundamental shift from assembly-line education (creating “something”) to cultivation (developing “someone”)—and why this distinction changes everything. \nYou’ll learn: \n\nWhy character and competence multiply each other’s effects\nThe principle of Agency with Responsibility that makes freedom work\nHow to create a “laboratory of freedom” where genius flourishes\nThe difference between developing workers and developing leaders\n\nThis isn’t about doing education differently. It’s about seeing education differently. \nJoin us to discover why some students own their learning while others merely comply—and how you can cultivate the internal capacity that lasts a lifetime. \nYour students are waiting to come alive again. \nJoin Heidi Christianson\, co-author of the new book Developing a Mentor’s Heart\, Thursday\, February 5th\, at 6 pm MST (5 pm Pacific\, 7 pm Central\, 8 pm Eastern) \nREGISTER TODAY!\n \nCan’t make it to the live event?  Access to the recordings for this year’s webinars\, as well as others\, is available for purchase HERE.
URL:https://lemi-u.com/event/developing-someone-not-creating-something/
LOCATION:Zoom\, UT\, United States
ATTACH;FMTTYPE=image/png:https://lemi-u.com/wp-content/uploads/2025/02/Heidi-Headshot2022.png
ORGANIZER;CN="Heidi Christianson":MAILTO:registerlemi@gmail.com
END:VEVENT
END:VCALENDAR