BEGIN:VCALENDAR
VERSION:2.0
PRODID:-//LEMI-U - ECPv6.15.20//NONSGML v1.0//EN
CALSCALE:GREGORIAN
METHOD:PUBLISH
X-WR-CALNAME:LEMI-U
X-ORIGINAL-URL:https://lemi-u.com
X-WR-CALDESC:Events for LEMI-U
REFRESH-INTERVAL;VALUE=DURATION:PT1H
X-Robots-Tag:noindex
X-PUBLISHED-TTL:PT1H
BEGIN:VTIMEZONE
TZID:UTC
BEGIN:STANDARD
TZOFFSETFROM:+0000
TZOFFSETTO:+0000
TZNAME:UTC
DTSTART:20240101T000000
END:STANDARD
END:VTIMEZONE
BEGIN:VTIMEZONE
TZID:America/Denver
BEGIN:DAYLIGHT
TZOFFSETFROM:-0700
TZOFFSETTO:-0600
TZNAME:MDT
DTSTART:20240310T090000
END:DAYLIGHT
BEGIN:STANDARD
TZOFFSETFROM:-0600
TZOFFSETTO:-0700
TZNAME:MST
DTSTART:20241103T080000
END:STANDARD
BEGIN:DAYLIGHT
TZOFFSETFROM:-0700
TZOFFSETTO:-0600
TZNAME:MDT
DTSTART:20250309T090000
END:DAYLIGHT
BEGIN:STANDARD
TZOFFSETFROM:-0600
TZOFFSETTO:-0700
TZNAME:MST
DTSTART:20251102T080000
END:STANDARD
BEGIN:DAYLIGHT
TZOFFSETFROM:-0700
TZOFFSETTO:-0600
TZNAME:MDT
DTSTART:20260308T090000
END:DAYLIGHT
BEGIN:STANDARD
TZOFFSETFROM:-0600
TZOFFSETTO:-0700
TZNAME:MST
DTSTART:20261101T080000
END:STANDARD
END:VTIMEZONE
BEGIN:VEVENT
DTSTART;TZID=UTC:20250419T083000
DTEND;TZID=UTC:20250419T130000
DTSTAMP:20260419T075417
CREATED:20250402T062832Z
LAST-MODIFIED:20250402T062832Z
UID:4673-1745051400-1745067600@lemi-u.com
SUMMARY:1/2 Day Seminar in Woodlawn\, TN April 19th
DESCRIPTION:What is true leadership? It’s not about titles or positions—it’s about developing the capacity to navigate challenges thoughtfully\, see patterns in human behavior\, and guide positive change. \nJoin us for a half-day seminar where you’ll discover how Leadership Education draws out your child’s unique potential rather than following the conventional “conveyor belt” approach. \nWhen: April 19th\, 2025\, 8:30 am to 1 pm\nWhere: Woodlawn\, TN\nHosted by: Commonwealth Leadership Academy of Clarksville \nIn this transformative workshop for homeschool parents\, you’ll learn: \n\n\nHow to shift from teaching “what to think” to teaching “how to think” \n\n\nPractical ways to combine academic excellence with strong character \n\n\nStrategies to help your child become an active creator of their learning journey \n\n\nThe powerful learning environments that develop true leadership \n\n\nTrue education isn’t about filling a bucket—it’s about lighting a fire. Come learn how to create an education that prepares your child not just for tests\, but for a life of meaningful contribution and purpose. \nTo register for this event\, please go to our Shop on our main website: https://www.lemihomeschool.com/shop/p/tn-0425
URL:https://lemi-u.com/event/1-2-day-seminar-in-woodlawn-tn-april-19th/
LOCATION:First Baptist Church of Woodlawn\, 2751 Woodlawn Rd.\, Woodlawn\, TN\, 37191\, United States
ATTACH;FMTTYPE=image/png:https://lemi-u.com/wp-content/uploads/2025/04/TN-Seminar.png
ORGANIZER;CN="Heidi Christianson":MAILTO:registerlemi@gmail.com
END:VEVENT
BEGIN:VEVENT
DTSTART;TZID=America/Denver:20250419T090000
DTEND;TZID=America/Denver:20250419T103000
DTSTAMP:20260419T075417
CREATED:20240912T053638Z
LAST-MODIFIED:20240912T053852Z
UID:4227-1745053200-1745058600@lemi-u.com
SUMMARY:Spark to Success: The Science Behind Your Child's Motivation by Kami Harris
DESCRIPTION:All webinars are at 9 am Mountain (Utah) time \nUnlock the secrets of your child’s inner drive with Kami Harris in her webinar\, “Spark to Success: The Science Behind Your Child’s Motivation.” Dive into the fascinating world of cognitive psychology and discover what truly ignites a passion for learning. Kami will reveal cutting-edge research on motivation\, translating complex theories into practical\, easy-to-apply strategies for your homeschool. Whether you’re dealing with a reluctant learner or aiming to push an eager student to new heights\, this webinar offers invaluable insights to transform your mentoring approach. Don’t miss this opportunity to tap into the science of motivation and watch your child’s enthusiasm for learning soar. Join Kami and unlock the key to your child’s academic success and lifelong love of learning! \nREGISTER TODAY!\n \nCan’t make it to the free live webinars?  You can purchase the recordings HERE. \nWith the purchase of the recordings you will also automatically receive the zoom login information for all upcoming webinars.  No registration required!
URL:https://lemi-u.com/event/spark-to-success-the-science-behind-your-childs-motivation-by-kami-harris/
LOCATION:Zoom\, UT\, United States
ATTACH;FMTTYPE=image/png:https://lemi-u.com/wp-content/uploads/2024/09/Kami-Harris-1.png
ORGANIZER;CN="Heidi Christianson":MAILTO:registerlemi@gmail.com
END:VEVENT
END:VCALENDAR