BEGIN:VCALENDAR
VERSION:2.0
PRODID:-//LEMI-U - ECPv6.15.20//NONSGML v1.0//EN
CALSCALE:GREGORIAN
METHOD:PUBLISH
X-ORIGINAL-URL:https://lemi-u.com
X-WR-CALDESC:Events for LEMI-U
REFRESH-INTERVAL;VALUE=DURATION:PT1H
X-Robots-Tag:noindex
X-PUBLISHED-TTL:PT1H
BEGIN:VTIMEZONE
TZID:UTC
BEGIN:STANDARD
TZOFFSETFROM:+0000
TZOFFSETTO:+0000
TZNAME:UTC
DTSTART:20240101T000000
END:STANDARD
END:VTIMEZONE
BEGIN:VEVENT
DTSTART;TZID=UTC:20250417T180000
DTEND;TZID=UTC:20250417T190000
DTSTAMP:20260419T075512
CREATED:20250321T065358Z
LAST-MODIFIED:20250325T213254Z
UID:4654-1744912800-1744916400@lemi-u.com
SUMMARY:Connecting Heart\, Mind\, and Purpose with Leadership Education - Evansville\, IN\, 4/17/25
DESCRIPTION:Sponsored by Leadership Education Mentoring Institute \nJoin Heidi Christianson\, a veteran homeschooler of over 20 years\, credentialed teacher\, and Director of Operations of LEMI\, for a FREE homeschool presentation in Evansville\, IN on Thursday 4/17/25 at 6 pm. \nJoin us for an evening exploring the principles of Leadership Education. This presentation will transform how you think about education and provide practical tools for nurturing the next generation of leaders. \nDuring this one-hour session\, you’ll discover: \n\nThe fundamental differences between traditional “conveyor belt” education and the more personalized\, growth-oriented Leadership Education approach\nHow to identify and work with the natural learning phases your child experiences\nThe powerful V-MASK framework (Vision\, Mission\, Abilities\, Skills\, Knowledge) for understanding student roadblocks and guiding growth\nLearning environments that develop both competence and character\nPractical ways to implement these principles in homeschool\, classroom\, and mentoring relationships\n\nWhether you’re a parent seeking to provide a more meaningful educational experience\, a teacher looking to inspire deeper engagement\, or a mentor guiding others toward their potential\, this presentation offers valuable insights for creating transformative learning experiences. \nBring a friend! Q&A session to follow the presentation. \nWho Should Attend: \n\nParents interested in homeschooling or enhancing their children’s education\nTeachers and educators seeking fresh approaches\nMentors working with youth\nAnyone passionate about developing future leaders\n\nREGISTER HERE:
URL:https://lemi-u.com/event/evansville-in-041725/
LOCATION:8020 Covert Ave\, Evansville\, IN 47715\, 8020 Covert Ave\, Evansville\, IN\, 47715\, United States
ATTACH;FMTTYPE=image/png:https://lemi-u.com/wp-content/uploads/2025/03/IN-Presentation.png
ORGANIZER;CN="Heidi Christianson":MAILTO:registerlemi@gmail.com
END:VEVENT
END:VCALENDAR