BEGIN:VCALENDAR
VERSION:2.0
PRODID:-//LEMI-U - ECPv6.15.20//NONSGML v1.0//EN
CALSCALE:GREGORIAN
METHOD:PUBLISH
X-ORIGINAL-URL:https://lemi-u.com
X-WR-CALDESC:Events for LEMI-U
REFRESH-INTERVAL;VALUE=DURATION:PT1H
X-Robots-Tag:noindex
X-PUBLISHED-TTL:PT1H
BEGIN:VTIMEZONE
TZID:America/Chicago
BEGIN:DAYLIGHT
TZOFFSETFROM:-0600
TZOFFSETTO:-0500
TZNAME:CDT
DTSTART:20240310T080000
END:DAYLIGHT
BEGIN:STANDARD
TZOFFSETFROM:-0500
TZOFFSETTO:-0600
TZNAME:CST
DTSTART:20241103T070000
END:STANDARD
BEGIN:DAYLIGHT
TZOFFSETFROM:-0600
TZOFFSETTO:-0500
TZNAME:CDT
DTSTART:20250309T080000
END:DAYLIGHT
BEGIN:STANDARD
TZOFFSETFROM:-0500
TZOFFSETTO:-0600
TZNAME:CST
DTSTART:20251102T070000
END:STANDARD
BEGIN:DAYLIGHT
TZOFFSETFROM:-0600
TZOFFSETTO:-0500
TZNAME:CDT
DTSTART:20260308T080000
END:DAYLIGHT
BEGIN:STANDARD
TZOFFSETFROM:-0500
TZOFFSETTO:-0600
TZNAME:CST
DTSTART:20261101T070000
END:STANDARD
END:VTIMEZONE
BEGIN:VEVENT
DTSTART;TZID=America/Chicago:20250414T183000
DTEND;TZID=America/Chicago:20250414T193000
DTSTAMP:20260419T075547
CREATED:20250321T064259Z
LAST-MODIFIED:20250404T214629Z
UID:4650-1744655400-1744659000@lemi-u.com
SUMMARY:Connecting Heart\, Mind\, and Purpose with Leadership Education - Springfield\, MO 4/14/25
DESCRIPTION:Sponsored by Leadership Education Mentoring Institute \nJoin Heidi Christianson\, a veteran homeschooler of over 20 years\, credentialed teacher\, and Director of Operations of LEMI\, for a FREE homeschool presentation in Springfield\, MO on Monday 4/14/25 at 6:30 pm. \nTransform your homeschool journey by nurturing not just what your child knows\, but who they become—a thoughtful person with the heart\, mind\, and purpose to make a real difference in the world.\nJoin us for an evening exploring the principles of Leadership Education. This presentation will transform how you think about education and provide practical tools for nurturing the next generation of leaders. \nDuring this one-hour session\, you’ll discover: \n\nThe fundamental differences between traditional “conveyor belt” education and the more personalized\, growth-oriented Leadership Education approach\nHow to identify and work with the natural learning phases your child experiences\nThe powerful V-MASK framework (Vision\, Mission\, Abilities\, Skills\, Knowledge) for understanding student roadblocks and guiding growth\nLearning environments that develop both competence and character\nPractical ways to implement these principles in homeschool\, classroom\, and mentoring relationships\n\nWhether you’re a parent seeking to provide a more meaningful educational experience\, a teacher looking to inspire deeper engagement\, or a mentor guiding others toward their potential\, this presentation offers valuable insights for creating transformative learning experiences. \nBring a friend! Q&A session to follow the presentation. \nWho Should Attend: \n\nParents interested in homeschooling or enhancing their children’s education\nTeachers and educators seeking fresh approaches\nMentors working with youth\nAnyone passionate about developing future leaders\n\nREGISTER HERE:
URL:https://lemi-u.com/event/springfield-mo-041425/
LOCATION:Willard Renew Church 304 S Farmer Rd\, Willard\, MO 65781.\, Willard Renew Church 304 S Farmer Rd\,\, Willard\, MO 65781.\, MO\, 65781\, United States
ATTACH;FMTTYPE=image/png:https://lemi-u.com/wp-content/uploads/2025/03/MO-Seminar-SM1-1.png
ORGANIZER;CN="Heidi Christianson":MAILTO:registerlemi@gmail.com
END:VEVENT
END:VCALENDAR