BEGIN:VCALENDAR
VERSION:2.0
PRODID:-//LEMI-U - ECPv6.15.20//NONSGML v1.0//EN
CALSCALE:GREGORIAN
METHOD:PUBLISH
X-WR-CALNAME:LEMI-U
X-ORIGINAL-URL:https://lemi-u.com
X-WR-CALDESC:Events for LEMI-U
REFRESH-INTERVAL;VALUE=DURATION:PT1H
X-Robots-Tag:noindex
X-PUBLISHED-TTL:PT1H
BEGIN:VTIMEZONE
TZID:UTC
BEGIN:STANDARD
TZOFFSETFROM:+0000
TZOFFSETTO:+0000
TZNAME:UTC
DTSTART:20240101T000000
END:STANDARD
END:VTIMEZONE
BEGIN:VEVENT
DTSTART;VALUE=DATE:20250412
DTEND;VALUE=DATE:20250413
DTSTAMP:20260419T075416
CREATED:20250402T063808Z
LAST-MODIFIED:20250410T191227Z
UID:4675-1744416000-1744502399@lemi-u.com
SUMMARY:Full Day Seminar in Kansas City\, MO on April 12th
DESCRIPTION:What is true leadership? It’s not about titles or positions—it’s about developing the capacity to navigate challenges thoughtfully\, see patterns in human behavior\, and guide positive change. \nJoin us for a full-day seminar where you’ll discover how Leadership Education draws out your child’s unique potential rather than following the conventional “conveyor belt” approach. \nWhen: April 12th\, 2025\, 9 am to 5 pm\nWhere: Kansas City\, MO\nHosted by: Kansas City Area Home Educators \nIn this transformative workshop for homeschool parents\, you’ll learn: \n\n\nHow to shift from teaching “what to think” to teaching “how to think” \n\n\nPractical ways to combine academic excellence with strong character \n\n\nStrategies to help your child become an active creator of their learning journey \n\n\nThe powerful learning environments that develop true leadership \n\n\nTrue education isn’t about filling a bucket—it’s about lighting a fire. Come learn how to create an education that prepares your child not just for tests\, but for a life of meaningful contribution and purpose. \nTo register for this event\, please go to our Shop on our main website: https://www.lemihomeschool.com/shop/p/mo-041225-seminar
URL:https://lemi-u.com/event/full-day-seminar-in-kansas-city-mo-on-april-12th/
LOCATION:Riverstone Retirement Community\, 9000 N Congress Ave.\, Kansas City\, MO\, 64153\, United States
ATTACH;FMTTYPE=image/png:https://lemi-u.com/wp-content/uploads/2025/04/MO-Seminar.png
ORGANIZER;CN="Heidi Christianson":MAILTO:registerlemi@gmail.com
END:VEVENT
END:VCALENDAR