BEGIN:VCALENDAR
VERSION:2.0
PRODID:-//LEMI-U - ECPv6.15.20//NONSGML v1.0//EN
CALSCALE:GREGORIAN
METHOD:PUBLISH
X-ORIGINAL-URL:https://lemi-u.com
X-WR-CALDESC:Events for LEMI-U
REFRESH-INTERVAL;VALUE=DURATION:PT1H
X-Robots-Tag:noindex
X-PUBLISHED-TTL:PT1H
BEGIN:VTIMEZONE
TZID:UTC
BEGIN:STANDARD
TZOFFSETFROM:+0000
TZOFFSETTO:+0000
TZNAME:UTC
DTSTART:20240101T000000
END:STANDARD
END:VTIMEZONE
BEGIN:VEVENT
DTSTART;TZID=UTC:20250222T090000
DTEND;TZID=UTC:20250222T103000
DTSTAMP:20260419T210635
CREATED:20250202T060849Z
LAST-MODIFIED:20250202T061101Z
UID:4456-1740214800-1740220200@lemi-u.com
SUMMARY:Finding Purpose Through Alternative Education: My Journey at the Georgic Schoolroom with Rebekah Celeste
DESCRIPTION:All webinars start at 9 am Mountain \nA GUEST WEBINAR!\nIs your high school graduate feeling pressured to have their entire life mapped out? Are they struggling with college decisions and career choices? Rebekah once stood where your child is now – caught between traditional expectations and the uncertainty of what path to take. Then she discovered an alternative that transformed her future. \nThe Georgic Schoolroom offers young adults a unique approach to higher education that goes beyond conventional college. Here\, students develop practical skills and self-knowledge through hands-on experience: working the soil\, growing food\, and caring for farm animals. This immersive environment helps them uncover their natural talents and passions\, ultimately guiding them toward their life’s purpose. \nJoin Rebekah to learn how she transitioned from a overwhelmed high school graduate to finding clarity and direction through leadership education. Discover how this alternative educational path can help your child identify not just how to make a living\, but how to make a meaningful impact on the world – all while staying true to their personality and core values. \nWebsite links \nVideo about the summer program (Georgic Schoolroom: https://youtu.be/XgdfXccieDI?si=gkaGTwaer9QbDXY9 \nInstagram: https://www.instagram.com/gardening_with_william_demille/ \nWebsite: https://www.thegeorgicrevolution.com/ \nFacebook: https://www.facebook.com/william.demille.50 \nWilliams Book: https://www.amazon.com/Worry-Free-Eating-William-John-DeMille/dp/B0BW2Y4GLZ \nREGISTER TODAY! \n \nHave you missed a webinar or would you like to watch them again?  Recordings are available for purchase HERE.
URL:https://lemi-u.com/event/finding-purpose-through-alternative-education-my-journey-at-the-georgic-schoolroom-with-rebekah-celeste/
LOCATION:Zoom\, UT\, United States
ATTACH;FMTTYPE=image/jpeg:https://lemi-u.com/wp-content/uploads/2025/02/Georgic-Schoolroom.jpg
ORGANIZER;CN="Heidi Christianson":MAILTO:registerlemi@gmail.com
END:VEVENT
END:VCALENDAR